BEGIN:VCALENDAR
VERSION:2.0
PRODID: -//Q4 Inc.//EN
METHOD:PUBLISH
BEGIN:VTIMEZONE
TZID:America/New_York
X-LIC-LOCATION:America/New_York
BEGIN:DAYLIGHT
TZOFFSETFROM:-0500
TZOFFSETTO:-0400
TZNAME:EDT
DTSTART:19700308T020000
RRULE:FREQ=YEARLY;BYMONTH=3;BYDAY=2SU
END:DAYLIGHT
BEGIN:STANDARD
TZOFFSETFROM:-0400
TZOFFSETTO:-0500
TZNAME:EST
DTSTART:19701101T020000
RRULE:FREQ=YEARLY;BYMONTH=11;BYDAY=1SU
END:STANDARD
END:VTIMEZONE
BEGIN:VEVENT
ORGANIZER:MAILTO:Investor_Relations@Jabil.com
DTSTART;TZID="America/New_York":20200123T100000
DTEND;TZID="America/New_York":20200123T110000
LOCATION:
UID:799d206f-70bf-437f-874d-20c6da822cf2
DTSTAMP:20260424T161150
SUMMARY:Jabil Annual Shareholder Meeting
DESCRIPTION: View More Information: https://investors.jabil.com/events-and-presentations/event-details/2020/Jabil-Annual-Shareholder-Meeting/default.aspx
URL;VALUE=URI:https://investors.jabil.com/events-and-presentations/event-details/2020/Jabil-Annual-Shareholder-Meeting/default.aspx
PRIORITY:5
CLASS:PUBLIC
END:VEVENT
END:VCALENDAR
