BEGIN:VCALENDAR
VERSION:2.0
PRODID: -//Q4 Inc.//EN
METHOD:PUBLISH
BEGIN:VTIMEZONE
TZID:America/New_York
X-LIC-LOCATION:America/New_York
BEGIN:DAYLIGHT
TZOFFSETFROM:-0500
TZOFFSETTO:-0400
TZNAME:EDT
DTSTART:19700308T020000
RRULE:FREQ=YEARLY;BYMONTH=3;BYDAY=2SU
END:DAYLIGHT
BEGIN:STANDARD
TZOFFSETFROM:-0400
TZOFFSETTO:-0500
TZNAME:EST
DTSTART:19701101T020000
RRULE:FREQ=YEARLY;BYMONTH=11;BYDAY=1SU
END:STANDARD
END:VTIMEZONE
BEGIN:VEVENT
ORGANIZER:MAILTO:Investor_Relations@Jabil.com
DTSTART;TZID="America/New_York":20200313T083000
DTEND;TZID="America/New_York":20200313T093000
LOCATION:
UID:0ef5d75f-c2d3-44f1-95a2-0c61c218aeda
DTSTAMP:20260424T161151
SUMMARY:Jabil’s Second Quarter of Fiscal Year 2020 Financial Results
DESCRIPTION: View More Information: https://investors.jabil.com/events-and-presentations/event-details/2020/Jabils-Second-Quarter-of-Fiscal-Year-2020-Financial-Results/default.aspx
URL;VALUE=URI:https://investors.jabil.com/events-and-presentations/event-details/2020/Jabils-Second-Quarter-of-Fiscal-Year-2020-Financial-Results/default.aspx
PRIORITY:5
CLASS:PUBLIC
END:VEVENT
END:VCALENDAR
